BEGIN:VCALENDAR
VERSION:2.0
PRODID:-//ExcellenceNorth Alliance - ECPv6.15.10//NONSGML v1.0//EN
CALSCALE:GREGORIAN
METHOD:PUBLISH
X-WR-CALNAME:ExcellenceNorth Alliance
X-ORIGINAL-URL:https://excellencenorth.org
X-WR-CALDESC:Events for ExcellenceNorth Alliance
REFRESH-INTERVAL;VALUE=DURATION:PT1H
X-Robots-Tag:noindex
X-PUBLISHED-TTL:PT1H
BEGIN:VTIMEZONE
TZID:UTC
BEGIN:STANDARD
TZOFFSETFROM:+0000
TZOFFSETTO:+0000
TZNAME:UTC
DTSTART:20190101T000000
END:STANDARD
END:VTIMEZONE
BEGIN:VEVENT
DTSTART;TZID=UTC:20200801T080000
DTEND;TZID=UTC:20201031T170000
DTSTAMP:20260424T162439
CREATED:20191223T184434Z
LAST-MODIFIED:20191223T184434Z
UID:1551-1596268800-1604163600@excellencenorth.org
SUMMARY:2020 Examiner Training
DESCRIPTION:Professional and Leadership development to improve your organization while supporting your community! \nRegistration opens Summer 2020.   Program runs from August – October.  Contact us to learn more
URL:https://excellencenorth.org/event/2020-examiner-training/
CATEGORIES:ENA Events,Training
END:VEVENT
END:VCALENDAR