BEGIN:VCALENDAR
VERSION:2.0
PRODID:-//ExcellenceNorth Alliance - ECPv6.15.10//NONSGML v1.0//EN
CALSCALE:GREGORIAN
METHOD:PUBLISH
X-WR-CALNAME:ExcellenceNorth Alliance
X-ORIGINAL-URL:https://excellencenorth.org
X-WR-CALDESC:Events for ExcellenceNorth Alliance
REFRESH-INTERVAL;VALUE=DURATION:PT1H
X-Robots-Tag:noindex
X-PUBLISHED-TTL:PT1H
BEGIN:VTIMEZONE
TZID:UTC
BEGIN:STANDARD
TZOFFSETFROM:+0000
TZOFFSETTO:+0000
TZNAME:UTC
DTSTART:20190101T000000
END:STANDARD
END:VTIMEZONE
BEGIN:VTIMEZONE
TZID:America/New_York
BEGIN:DAYLIGHT
TZOFFSETFROM:-0500
TZOFFSETTO:-0400
TZNAME:EDT
DTSTART:20180311T070000
END:DAYLIGHT
BEGIN:STANDARD
TZOFFSETFROM:-0400
TZOFFSETTO:-0500
TZNAME:EST
DTSTART:20181104T060000
END:STANDARD
BEGIN:DAYLIGHT
TZOFFSETFROM:-0500
TZOFFSETTO:-0400
TZNAME:EDT
DTSTART:20190310T070000
END:DAYLIGHT
BEGIN:STANDARD
TZOFFSETFROM:-0400
TZOFFSETTO:-0500
TZNAME:EST
DTSTART:20191103T060000
END:STANDARD
BEGIN:DAYLIGHT
TZOFFSETFROM:-0500
TZOFFSETTO:-0400
TZNAME:EDT
DTSTART:20200308T070000
END:DAYLIGHT
BEGIN:STANDARD
TZOFFSETFROM:-0400
TZOFFSETTO:-0500
TZNAME:EST
DTSTART:20201101T060000
END:STANDARD
END:VTIMEZONE
BEGIN:VEVENT
DTSTART;TZID=UTC:20250330T080000
DTEND;TZID=UTC:20250402T170000
DTSTAMP:20260424T162312
CREATED:20250326T202324Z
LAST-MODIFIED:20250327T075654Z
UID:2402-1743321600-1743613200@excellencenorth.org
SUMMARY:36th Quest for Excellence Conference
DESCRIPTION:March 30-April 2\, 2025 | Baltimore Marriott Waterfront\, Baltimore MD\nJoin us at the Quest for Excellence 2025!  Learn how your organization can achieve outstanding performance. Join us at the premier showcase of current and former Baldrige Award recipients March 30-April 2\, 2025\, Baltimore Marriott Waterfront\, Baltimore\, MD (just outside of Washington\, D.C.). Official Conference of the Malcolm Baldrige National Quality Award\, brought to you by the Baldrige Performance Excellence Program at NIST. \nVisit the Quest for Excellence Conference website for the latest information on the program and registration.
URL:https://excellencenorth.org/event/36th-quest-for-excellence-conference/
CATEGORIES:Baldrige National Events
END:VEVENT
BEGIN:VEVENT
DTSTART;TZID=UTC:20200801T080000
DTEND;TZID=UTC:20201031T170000
DTSTAMP:20260424T162312
CREATED:20191223T184434Z
LAST-MODIFIED:20191223T184434Z
UID:1551-1596268800-1604163600@excellencenorth.org
SUMMARY:2020 Examiner Training
DESCRIPTION:Professional and Leadership development to improve your organization while supporting your community! \nRegistration opens Summer 2020.   Program runs from August – October.  Contact us to learn more
URL:https://excellencenorth.org/event/2020-examiner-training/
CATEGORIES:ENA Events,Training
END:VEVENT
BEGIN:VEVENT
DTSTART;VALUE=DATE:20200324
DTEND;VALUE=DATE:20200328
DTSTAMP:20260424T162312
CREATED:20191223T175450Z
LAST-MODIFIED:20191223T175450Z
UID:1543-1585008000-1585353599@excellencenorth.org
SUMMARY:32nd Annual Quest for Excellence Conference
DESCRIPTION:Learn how your organization can achieve outstanding performance. Join us at the premier showcase of current and former Baldrige Award recipients March 24-27\, 2020 (Tuesday-Friday)\, Gaylord National Harbor Resort and Convention Center\, National Harbor\, MD (just outside of Washington\, D.C.). Official Conference of the Malcolm Baldrige National Quality Award\, brought to you by the Baldrige Performance Excellence Program at NIST. \nVisit the Quest for Excellence Conference website for the latest information on the program and registration
URL:https://excellencenorth.org/event/32nd-annual-quest-for-excellence-conference/
LOCATION:Gaylord National Harbor Resort & Convention Center\, National Harbor\, MD\, United States
CATEGORIES:Baldrige National Events
END:VEVENT
BEGIN:VEVENT
DTSTART;TZID=America/New_York:20190731T130000
DTEND;TZID=America/New_York:20190731T170000
DTSTAMP:20260424T162312
CREATED:20190716T215528Z
LAST-MODIFIED:20191223T181447Z
UID:1334-1564578000-1564592400@excellencenorth.org
SUMMARY:Leadership Summit - Navigating Generational Expectations
DESCRIPTION:ExcellenceNorth Alliance Summit to discuss Navigating Generational Expectations in the workplace. All generations are invited to share what your organization is doing and learn from others.   Explore and address the challenges and benefits of working together in support of attracting and retaining a talented multi-generational workforce.
URL:https://excellencenorth.org/event/leadership-summit-navigating-generational-expectations/
LOCATION:Northeast Delta Dental Conference Center\, 2 Delta Drive\, Concord\, NH\, 03302\, United States
CATEGORIES:ENA Events
END:VEVENT
END:VCALENDAR